BEGIN:VCALENDAR
VERSION:2.0
PRODID:-//Date iCal//NONSGML kigkonsult.se iCalcreator 2.20.2//
METHOD:PUBLISH
X-WR-CALNAME;VALUE=TEXT:Programme Déantibulations
BEGIN:VTIMEZONE
TZID:Europe/Paris
BEGIN:STANDARD
DTSTART:20161030T030000
TZOFFSETFROM:+0200
TZOFFSETTO:+0100
TZNAME:CET
END:STANDARD
BEGIN:DAYLIGHT
DTSTART:20160327T020000
TZOFFSETFROM:+0100
TZOFFSETTO:+0200
TZNAME:CEST
END:DAYLIGHT
END:VTIMEZONE
BEGIN:VEVENT
UID:calendar.1240.field_date.0@www.acla06.com
DTSTAMP:20260420T005230Z
CREATED:20160323T093657Z
DESCRIPTION:Cirque/slam/musique - Spectacle tout public - 40 minutes\n\n\n
 \nL’espace de CRI a été conçu comme un échangeur entre les corps\, les dis
 ciplines et les récits.\nAutour de trois trampolines circulaires et un mât
  chinois\, quatre acrobates alternent révolutions accélérées et séquences 
 contemplatives.\nTout près\, le slameur enroule son flow autour des interp
 rètes en mouvement\, le tout accompagné par un univers musical acoustique 
 et syncopé.
DTSTART;TZID=Europe/Paris:20160609T203000
DTEND;TZID=Europe/Paris:20160609T203000
LAST-MODIFIED:20160323T093657Z
LOCATION:Parvis du théatre Anthéa
SUMMARY:Cri
URL;TYPE=URI:http://www.acla06.com/deantibulations/representations/2016/06/
 09/2030
END:VEVENT
BEGIN:VEVENT
UID:calendar.1252.field_date.0@www.acla06.com
DTSTAMP:20260420T005230Z
CREATED:20160323T100910Z
DESCRIPTION:Cirque - Spectacle tout public - 40 minutes\n\n\n\nQue se passe
 -t-il lorsque quelqu’un fait irruption dans un espace pour la première foi
 s ?\n\n\n\nDe quelle façon la présence des autres nous transforme-t-elle o
 u nous console?\n\n\n\nHotel Iocandi met la technique de cirque (échelle d
 ’équilibres\, éléments aériens) et la musique en direct au service d’un un
 ivers mélant trois corps en mouvement.\n\n\n\nUn questionnement sur la fra
 gilité de l’être humain\, une proposition artistique entre la tragédie et 
 la comédie\, entre le désir et la fuite.
DTSTART;TZID=Europe/Paris:20160609T211000
DTEND;TZID=Europe/Paris:20160609T211000
LAST-MODIFIED:20160323T101011Z
LOCATION:Parvis du théatre Anthéa
SUMMARY:Esquerdes
URL;TYPE=URI:http://www.acla06.com/deantibulations/representations/2016/06/
 09/2110
END:VEVENT
BEGIN:VEVENT
UID:calendar.1266.field_date.0@www.acla06.com
DTSTAMP:20260420T005230Z
CREATED:20160323T111300Z
DESCRIPTION:Cirque/danse - Spectacle tout public - 25 min.\n\n\n\nUne femme
  s’éloigne peu à peu du monde du réel et entre dans une forêt de mystères 
 et de poésie.\n\n\n\nSon corps liane s’insinue\, se glisse jusqu’à se fond
 re dans le bois.\nDans cet instant de solitude\, elle prend du recul\, de 
 la hauteur aussi.\nElle rassemble ses forces et ouvre grand les fenêtres\,
  celles qui donnent sur l'ailleurs et sur l’intime.\n\n\n\nUn corps à corp
 s harmonieux et hypnotique entre un agrès hors du commun et cette jeune fe
 mme en 10 pleine métamorphose.
DTSTART;TZID=Europe/Paris:20160609T220000
DTEND;TZID=Europe/Paris:20160609T220000
LAST-MODIFIED:20160323T111300Z
LOCATION:Terrasse d'Anthéa
SUMMARY:Hêtre
URL;TYPE=URI:http://www.acla06.com/deantibulations/representations/2016/06/
 09/2200
END:VEVENT
BEGIN:VEVENT
UID:calendar.1289.field_date.0@www.acla06.com
DTSTAMP:20260420T005230Z
CREATED:20160323T125246Z
DESCRIPTION:Cirque - Spectacle tout public - 50 minutes\n\n\n\nUne folie ab
 surde et douce habite ces deux personnages.\nDans les airs comme à vélo\, 
 entre acrobaties et étrangetés\, ils détournent les codes et cherchent les
  limites\, au bord de l’impossible et de l’imaginaire.\nEntre eux se tisse
  une relation tendre et déraillée.\nTantôt spectaculaire\, tantôt intime\,
  le cirque est ici au service d’une histoire non-ordinaire. Il envahit le 
 quotidien et c’est un morceau de vie qui défile sous nos yeux\, tout droit
  sorti du coffre à jouets de notre enfance.
DTSTART;TZID=Europe/Paris:20160610T100000
DTEND;TZID=Europe/Paris:20160610T100000
LAST-MODIFIED:20160323T125246Z
LOCATION:Esplanade du pré des pêcheurs
SUMMARY:La folle allure
URL;TYPE=URI:http://www.acla06.com/deantibulations/representations/2016/06/
 10/1000
END:VEVENT
BEGIN:VEVENT
UID:calendar.1258.field_date.0@www.acla06.com
DTSTAMP:20260420T005230Z
CREATED:20160323T104940Z
DESCRIPTION:Danse - Spectacle tout public -\n\n\n\nDans cette pièce\, les d
 anseurs bousculent l’identité symbolique de soi et de l’autre \;\nmêlant l
 a danse et l’esthétique des masques\, du miroir\, du texte\, de la poésie 
 et de la création musicale.\n\n\n\n\nEn partenariat avec la médiatheque d'
 Antibes
DTSTART;TZID=Europe/Paris:20160610T180000
DTEND;TZID=Europe/Paris:20160610T180000
LAST-MODIFIED:20160323T141408Z
LOCATION:Médiathèque Albert Camus
SUMMARY:Regarde ta gueule de loup
URL;TYPE=URI:http://www.acla06.com/deantibulations/representations/2016/06/
 10/1800
END:VEVENT
BEGIN:VEVENT
UID:calendar.1273.field_date.0@www.acla06.com
DTSTAMP:20260420T005230Z
CREATED:20160323T122617Z
DESCRIPTION:Concert - Spectacle tout public - 55 minutes\n\n\n\nLes frêres 
 Jacquard contournent\, retournent\, détournent\, perturbent et entubent le
 s tubes de la pop\, les classiques de la chanson française et laissent imm
 anquablement la banane après leur passage.\nIls grattent guitare\, basse e
 t charango pour mieux chanter les tubes populaires.
DTSTART;TZID=Europe/Paris:20160610T195000
DTEND;TZID=Europe/Paris:20160610T195000
LAST-MODIFIED:20160323T122617Z
LOCATION:Esplanade du pré des pêcheurs
SUMMARY:Détricotage de tubes
URL;TYPE=URI:http://www.acla06.com/deantibulations/representations/2016/06/
 10/1950
END:VEVENT
BEGIN:VEVENT
UID:calendar.1317.field_date.0@www.acla06.com
DTSTAMP:20260420T005230Z
CREATED:20160323T141752Z
DESCRIPTION:Cirque - Spectacle tout public - 50 minutes\n\n\n\nUne folie ab
 surde et douce habite ces deux personnages.\nDans les airs comme à vélo\, 
 entre acrobaties et étrangetés\, ils détournent les codes et cherchent les
  limites\, au bord de l’impossible et de l’imaginaire.\nEntre eux se tisse
  une relation tendre et déraillée.\nTantôt spectaculaire\, tantôt intime\,
  le cirque est ici au service d’une histoire non-ordinaire. Il envahit le 
 quotidien et c’est un morceau de vie qui défile sous nos yeux\, tout droit
  sorti du coffre à jouets de notre enfance.
DTSTART;TZID=Europe/Paris:20160610T210500
DTEND;TZID=Europe/Paris:20160610T210500
LAST-MODIFIED:20160323T141752Z
LOCATION:Esplanade du pré des pêcheurs
SUMMARY:La folle allure
URL;TYPE=URI:http://www.acla06.com/deantibulations/representations/2016/06/
 10/2105
END:VEVENT
BEGIN:VEVENT
UID:calendar.1244.field_date.0@www.acla06.com
DTSTAMP:20260420T005230Z
CREATED:20160323T094805Z
DESCRIPTION:Piano aérien - Spectacle tout public - 35 minutes\n\n\n\nFLOTEN
  TECLES est un spectacle dans lequel David Moreno joue du piano\, des perc
 ussions et chante suspendu à six mètres du sol en position verticale.\n\n
 \n\nLe couvercle du piano devient un écran de cinéma sur lequel est projet
 é un court-métrage.\n\n\n\nLe musicien crée en direct la bande sonore du f
 ilm\, en même temps qu’il établit un dialogue avec les personnages et les 
 images qui apparaissent.\n\n\n\nTrente-cinq minutes surprenantes\, inatten
 dues\, uniques\, à même le ciel.
DTSTART;TZID=Europe/Paris:20160610T220500
DTEND;TZID=Europe/Paris:20160610T220500
LAST-MODIFIED:20160323T142137Z
LOCATION:Esplanade du pré des pêcheurs
SUMMARY:Floten Tecles
URL;TYPE=URI:http://www.acla06.com/deantibulations/representations/2016/06/
 10/2205
END:VEVENT
BEGIN:VEVENT
UID:calendar.1267.field_date.0@www.acla06.com
DTSTAMP:20260420T005230Z
CREATED:20160323T111356Z
DESCRIPTION:Cirque/danse - Spectacle tout public - 25 min.\n\n\n\nUne femme
  s’éloigne peu à peu du monde du réel et entre dans une forêt de mystères 
 et de poésie.\n\n\n\nSon corps liane s’insinue\, se glisse jusqu’à se fond
 re dans le bois.\nDans cet instant de solitude\, elle prend du recul\, de 
 la hauteur aussi.\nElle rassemble ses forces et ouvre grand les fenêtres\,
  celles qui donnent sur l'ailleurs et sur l’intime.\n\n\n\nUn corps à corp
 s harmonieux et hypnotique entre un agrès hors du commun et cette jeune fe
 mme en 10 pleine métamorphose.
DTSTART;TZID=Europe/Paris:20160610T224500
DTEND;TZID=Europe/Paris:20160610T224500
LAST-MODIFIED:20160323T111356Z
LOCATION:Jeu de boules du port
SUMMARY:Hêtre
URL;TYPE=URI:http://www.acla06.com/deantibulations/representations/2016/06/
 10/2245
END:VEVENT
BEGIN:VEVENT
UID:calendar.1315.field_date.0@www.acla06.com
DTSTAMP:20260420T005230Z
CREATED:20160323T135247Z
DESCRIPTION:Le festival\, en partenariat avec l'association PANGAEA organis
 e de nouveau un Master Class encadré par la percussionniste brésilienne Ro
 berta Paim.\nCette musicienne en plus d’un travail scénique avec différent
 s groupes développe divers workshops pour des festivals en France et en Eu
 rope.\nAvec Claudel Bertili\, danseur\, ils proposeront un master-class de
  danse et de percussion Afro-Brésilienne.\n\n\n\nCe stage se déroulera ent
 re 10h00 et 17h00 sur le jeu de boule du port d’Antibes.\n\n\n\nCette jour
 née se clôturera par un immense défilé dans les rues d’Antibes.\n\n\n\nRen
 seignements/inscriptions au 06 03 60 32 84.\n\n\n\nInscrivez vous en ligne
DTSTART;TZID=Europe/Paris:20160611T100000
DTEND;TZID=Europe/Paris:20160611T100000
LAST-MODIFIED:20160323T135247Z
LOCATION:Jeu de boules du port
SUMMARY:Master class de percussion
URL;TYPE=URI:http://www.acla06.com/deantibulations/representations/2016/06/
 11/1000
END:VEVENT
END:VCALENDAR
