BEGIN:VCALENDAR
VERSION:2.0
PRODID:-//Date iCal//NONSGML kigkonsult.se iCalcreator 2.20.2//
METHOD:PUBLISH
X-WR-CALNAME;VALUE=TEXT:Programme Déantibulations
BEGIN:VTIMEZONE
TZID:Europe/Paris
BEGIN:STANDARD
DTSTART:20171029T030000
TZOFFSETFROM:+0200
TZOFFSETTO:+0100
TZNAME:CET
END:STANDARD
BEGIN:DAYLIGHT
DTSTART:20170326T020000
TZOFFSETFROM:+0100
TZOFFSETTO:+0200
TZNAME:CEST
END:DAYLIGHT
END:VTIMEZONE
BEGIN:VEVENT
UID:calendar.1392.field_date.0@www.acla06.com
DTSTAMP:20260421T223007Z
CREATED:20170411T165001Z
DESCRIPTION:Partenaire du festival \, Anthéa accueille jeudi soir les premi
 ers spectacles du festival 2 en « ouvrant » de nouveau sa terrasse et son 
 parvis. En cas de pluie\, repli en salle.
DTSTART;TZID=Europe/Paris:20170608T194500
DTEND;TZID=Europe/Paris:20170608T194500
LAST-MODIFIED:20170411T165253Z
LOCATION:Parvis du théatre Anthéa
SUMMARY:Lancement du festival
URL;TYPE=URI:http://www.acla06.com/deantibulations/representations/2017/06/
 08/1945
END:VEVENT
BEGIN:VEVENT
UID:calendar.1384.field_date.0@www.acla06.com
DTSTAMP:20260421T223007Z
CREATED:20170411T134836Z
DESCRIPTION:20 blocks\, conçus comme un immense Jenga de béton\, forment le
  décor et l’équipement de cirque. Empilés et modulés à l’infini\, ils offr
 ent une multitude de formes\, de structures et de plateformes sur lesquell
 es bouger\, jouer et danser. Réalisé en collaboration par les compagnies B
 ritanniques NoFit State Circus et Motionhouse\, BLOCK est une analyse puis
 sante de la condition sociale\, des murs qui nous entourent et des armures
  qui nous protègent.
DTSTART;TZID=Europe/Paris:20170608T201500
DTEND;TZID=Europe/Paris:20170608T201500
LAST-MODIFIED:20170411T165500Z
LOCATION:Parvis du théatre Anthéa
SUMMARY:Block
URL;TYPE=URI:http://www.acla06.com/deantibulations/representations/2017/06/
 08/2015
END:VEVENT
BEGIN:VEVENT
UID:calendar.1342.field_date.0@www.acla06.com
DTSTAMP:20260421T223007Z
CREATED:20170411T120731Z
DESCRIPTION:Voici une danse qui aime le macadam\, qui épouse le mobilier ur
 bain\, ausculte les lignes de fuite des boulevards. Une danse acrobatique\
 , d’endurance qui se veut signifiante dans la narration et prime sur les f
 ioritures.\nUn travail sur l’interprète\, sur ses capacités physiques mais
  aussi sur ses possibilités d’incarner un personnage. Car il s’agit bien d
 e cela d’une histoire\, de personnages\, d’une fiction posée au milieu de 
 la réalité urbaine. Pas de grosses machineries un échange intime entre hum
 ains\, une résonance qui pourrait avoir lieu. Un désir de casser les front
 ières entre les genres.\nC’est une danse qui fait émerger l’émotion du mou
 vement\, une porosité des espaces entre danseurs\net spectateurs. Mettre d
 es corps dansants dans l’Espace Public c’est perturber volontairement les 
 habitudes des passants et c’est donc permettre le temps de la rencontre.\n
 L’écriture chorégraphique est un travail sur le concret des espaces de cha
 cun des personnages\, une danse basée sur une technique développée jour ap
 rès jour au contact du bitume.\nElle s’appuie également sur la plasticité 
 du corps\, ses possibilités de transformation\, de déformation\, laissant 
 à voir une danse où l’interprète est intensément par chaque muscle\, chaqu
 e\nligament\, chaque respiration\, chaque instant.
DTSTART;TZID=Europe/Paris:20170608T213000
DTEND;TZID=Europe/Paris:20170608T213000
LAST-MODIFIED:20170411T120731Z
LOCATION:Parvis du théatre Anthéa
SUMMARY:Ta peau comme le ciel
URL;TYPE=URI:http://www.acla06.com/deantibulations/representations/2017/06/
 08/2130
END:VEVENT
BEGIN:VEVENT
UID:calendar.1336.field_date.0@www.acla06.com
DTSTAMP:20260421T223007Z
CREATED:20170411T113350Z
DESCRIPTION:Tout est parti du constat que derrière chaque désastre humain o
 u écologique\, il y a un problème d’argent.\nA partir de la compagnie s’es
 t retrouvée avec l’envie de dire\, de faire et surtout le désir de compren
 dre.\nL’ARGENT ! Vaste sujet ! Passionnément corrosif. L’objectif est d’en
 durer\, digérer et rendre limpide ce qu’est l’argent\, ce qu’il fait de no
 us\, où il nous emmène\, toujours aux limites de la pudeur\, de la décence
  et de la décadence.\nAvec simplicité et poésie\, la dramaturgie se déploi
 e comme une traversée.\nPassant par des moments concrets d’explications mo
 nétaires\, dans l’idée de percer le mystère de l’argent\, les personnages 
 s’inscrivent dans une démarche d’enquête\, ils cherchent\, comprennent et 
 disent leur vérité\, en laissant aller leur imagination.\nAvec intelligenc
 e et humour\, le spectacle fait un état des lieux de la gestion monétaire 
 et donc économique de notre monde actuel et de ce que chacun de nous peut 
 ressentir face aux promesses ou a la violence de la monnaie.
DTSTART;TZID=Europe/Paris:20170608T220000
DTEND;TZID=Europe/Paris:20170608T220000
LAST-MODIFIED:20170411T113350Z
LOCATION:Terrasse d'Anthéa
SUMMARY:Argent pudeur et décadences
URL;TYPE=URI:http://www.acla06.com/deantibulations/representations/2017/06/
 08/2200
END:VEVENT
BEGIN:VEVENT
UID:calendar.1385.field_date.0@www.acla06.com
DTSTAMP:20260421T223007Z
CREATED:20170411T134924Z
DESCRIPTION:20 blocks\, conçus comme un immense Jenga de béton\, forment le
  décor et l’équipement de cirque. Empilés et modulés à l’infini\, ils offr
 ent une multitude de formes\, de structures et de plateformes sur lesquell
 es bouger\, jouer et danser. Réalisé en collaboration par les compagnies B
 ritanniques NoFit State Circus et Motionhouse\, BLOCK est une analyse puis
 sante de la condition sociale\, des murs qui nous entourent et des armures
  qui nous protègent.
DTSTART;TZID=Europe/Paris:20170609T101500
DTEND;TZID=Europe/Paris:20170609T101500
LAST-MODIFIED:20170411T165556Z
LOCATION:Esplanade du pré des pêcheurs
SUMMARY:Block
URL;TYPE=URI:http://www.acla06.com/deantibulations/representations/2017/06/
 09/1015
END:VEVENT
BEGIN:VEVENT
UID:calendar.1345.field_date.0@www.acla06.com
DTSTAMP:20260421T223007Z
CREATED:20170411T121743Z
DESCRIPTION:Synchronies est une forme ponctuelle In Situ. L’écriture d’un i
 nstant unique et donc éphémère.\n\n\n\nElle  s’invente pour l’occasion en 
 répondant à une demande\, des envies\, des rêves ou tout à la fois.\n\n\n
 \nArbre\, falaise\, forêt\, architecture\, cascade\, rivière\, champs de b
 lé\, place de village.\n\n\n\nSynchronies se compose avec les idées qui to
 mbent et les compétences formelles ou moins formelles des personnages invi
 tés : du mouvement\, aérien ou terrestre\, des mélodies jouées ou en chans
 on\, un nez rouge. Du texte parfois\, en équilibre\, en déséquilibre\, poé
 sie émergeant de l’intime dévoilé.
DTSTART;TZID=Europe/Paris:20170609T180000
DTEND;TZID=Europe/Paris:20170609T180000
LAST-MODIFIED:20170411T121743Z
LOCATION:Médiathèque Albert Camus
SUMMARY:Synchronies
URL;TYPE=URI:http://www.acla06.com/deantibulations/representations/2017/06/
 09/1800
END:VEVENT
BEGIN:VEVENT
UID:calendar.1386.field_date.0@www.acla06.com
DTSTAMP:20260421T223007Z
CREATED:20170411T135010Z
DESCRIPTION:20 blocks\, conçus comme un immense Jenga de béton\, forment le
  décor et l’équipement de cirque. Empilés et modulés à l’infini\, ils offr
 ent une multitude de formes\, de structures et de plateformes sur lesquell
 es bouger\, jouer et danser. Réalisé en collaboration par les compagnies B
 ritanniques NoFit State Circus et Motionhouse\, BLOCK est une analyse puis
 sante de la condition sociale\, des murs qui nous entourent et des armures
  qui nous protègent.
DTSTART;TZID=Europe/Paris:20170609T200000
DTEND;TZID=Europe/Paris:20170609T200000
LAST-MODIFIED:20170411T135010Z
LOCATION:Esplanade du pré des pêcheurs
SUMMARY:Block
URL;TYPE=URI:http://www.acla06.com/deantibulations/representations/2017/06/
 09/2000
END:VEVENT
BEGIN:VEVENT
UID:calendar.1395.field_date.0@www.acla06.com
DTSTAMP:20260421T223007Z
CREATED:20170411T170510Z
DESCRIPTION:Le trio est composé de créatures qui n’ont pas le décibel modes
 te. Pour le dire simplement « ça déménage » et les onomatopées à foison n’
 ont rien à envier aux guitares. Bien que ce spectacle s’infléchisse résolu
 ment vers le concert\, le clown demeure : cohérent\, incontournable et pré
 sent dans le moindre geste déplacé. Trois clowns portés par des prétention
 s supérieures \; la volonté de dire\, d’agir\, d’atteindre un point intell
 igible et l’impossibilité fondamentale de réussir et de filer droit vers l
 ’objectif.\nLe rire trouve sa place entre cette ambition et son échec\, da
 ns cette folle volonté de parvenir\, qui s’exacerbe en avalanches de malad
 resses.
DTSTART;TZID=Europe/Paris:20170609T205000
DTEND;TZID=Europe/Paris:20170609T205000
LAST-MODIFIED:20170608T085544Z
LOCATION:Esplanade du pré des pêcheurs
SUMMARY:Lux Intérior
URL;TYPE=URI:http://www.acla06.com/deantibulations/representations/2017/06/
 09/2050
END:VEVENT
BEGIN:VEVENT
UID:calendar.1374.field_date.0@www.acla06.com
DTSTAMP:20260421T223007Z
CREATED:20170411T133210Z
DESCRIPTION:...Chaque soir de tempête\, un vieil homme\, exilé de longue da
 te\, se rapproche du bord de mer. A la caresse du vent sur son visage\, il
  retourne dans de lointains souvenirs. Un rêve éveillé d’une nostalgie heu
 reuse\, pour ne jamais oublier\, et continuer de vivre coûte que coûte.\n
 \n\n\nAutour  d’un  câble  infini...\, quatre  corps  en  équilibre  vont 
  évoluer\, comme  les  vagues  d’un  temps  passé qui revient et repart sa
 ns cesse. ...Sodade...\, c’est aussi deux musiciens pour jouer\, chanter e
 t conter une fable à grande hauteur\, un hymne à la vie sur une structure 
 circassienne unique...\n\n\n\n« L'amitié est indispensable à l'homme pour 
 le bon fonctionnement de sa mémoire. Se souvenir de son passé\, le porter 
 toujours avec soi\, c'est peut-être la condition nécessaire pour conserver
 \, comme on dit\, l'intégrité de son moi. »\n\n\n\nMilan KUNDERA\, L’Ident
 ité
DTSTART;TZID=Europe/Paris:20170609T220000
DTEND;TZID=Europe/Paris:20170609T220000
LAST-MODIFIED:20170411T133210Z
LOCATION:Esplanade du pré des pêcheurs
SUMMARY:...Sodade...
URL;TYPE=URI:http://www.acla06.com/deantibulations/representations/2017/06/
 09/2200
END:VEVENT
BEGIN:VEVENT
UID:calendar.1328.field_date.0@www.acla06.com
DTSTAMP:20260421T223007Z
CREATED:20170411T110731Z
DESCRIPTION:« Du nouveau cirque tout entier centré sur l’escalade et la mon
 tagne comme métaphores du chemin de la vie ponctué d’obstacles et de franc
 hissements improbables\, toujours en lisière d’un vide qui ici\, ne gagner
 a pas.\n\n\n\nLeur univers est une structure verticale composée de trous e
 t de prises où les arts du cirque doivent s’adapter pour exister… Voici le
  cirqu’escalade… Du mur à la hache\, de la hache à la corde\, de la corde 
 au mur\, la boucle est bouclée !! A travers cette ronde poétique et burles
 que\, les artistes partagent leurs interrogations sur le monde qui les ent
 oure.\n\n\n\nUn spectacle de monte-en l’air où les lois de l’apesanteur s’
 effacent et laissent place à la dextérité des artistes faisant fi des dime
 nsions. »
DTSTART;TZID=Europe/Paris:20170609T225000
DTEND;TZID=Europe/Paris:20170609T225000
LAST-MODIFIED:20170411T110731Z
LOCATION:Esplanade du pré des pêcheurs
SUMMARY:Au pied du mur
URL;TYPE=URI:http://www.acla06.com/deantibulations/representations/2017/06/
 09/2250
END:VEVENT
END:VCALENDAR
